BEGIN:VCALENDAR
VERSION:2.0
PRODID:spatie/icalendar-generator
DESCRIPTION:Events from My WordPress
X-WR-CALDESC:Events from My WordPress
REFRESH-INTERVAL;VALUE=DURATION:PT1440M
X-PUBLISHED-TTL:PT1440M
BEGIN:VTIMEZONE
TZID:America/New_York
BEGIN:STANDARD
DTSTART:20251102T020000Z
TZOFFSETFROM:-0400
TZOFFSETTO:-0500
END:STANDARD
BEGIN:DAYLIGHT
DTSTART:20260308T020000Z
TZOFFSETFROM:-0500
TZOFFSETTO:-0400
END:DAYLIGHT
BEGIN:STANDARD
DTSTART:20261101T020000Z
TZOFFSETFROM:-0400
TZOFFSETTO:-0500
END:STANDARD
END:VTIMEZONE
BEGIN:VTIMEZONE
TZID:UTC
BEGIN:STANDARD
DTSTART:20250725T085920Z
TZOFFSETFROM:+0000
TZOFFSETTO:+0000
END:STANDARD
END:VTIMEZONE
BEGIN:VEVENT
UID:3-2
DTSTAMP:20260421T085920Z
SUMMARY:BAAHGS Monthly Meeting
LOCATION:Virtual
ORGANIZER;CN=Vmdials:MAILTO:vvmdials@gmail.com
RRULE:FREQ=MONTHLY;BYDAY=1SA;UNTIL=20260606T000000Z
DTSTART;TZID=America/New_York:20260502T110000
DTEND;TZID=America/New_York:20260502T133000
X-ALT-DESC;FMTTYPE=TEXT/HTML:test texthttps://us06web.zoom.us/j/88459866993
 ?pwd=aZIgvx6JmYdoAC8LPyMqanauiGDXcj.1
CATEGORIES:General
URL;VALUE=URI:https://newwebsite.baltimoreaahgs.org/mc-events/baahgs-monthl
 y-meeting/?mc_id=3
METHOD:PUBLISH
END:VEVENT
END:VCALENDAR